BEGIN:VCALENDAR
VERSION:2.0
PRODID:-//Sawadi by Marie - ECPv6.15.20//NONSGML v1.0//EN
CALSCALE:GREGORIAN
METHOD:PUBLISH
X-WR-CALNAME:Sawadi by Marie
X-ORIGINAL-URL:https://sawadibymarie.com
X-WR-CALDESC:Évènements pour Sawadi by Marie
REFRESH-INTERVAL;VALUE=DURATION:PT1H
X-Robots-Tag:noindex
X-PUBLISHED-TTL:PT1H
BEGIN:VTIMEZONE
TZID:Europe/Brussels
BEGIN:DAYLIGHT
TZOFFSETFROM:+0100
TZOFFSETTO:+0200
TZNAME:CEST
DTSTART:20250330T010000
END:DAYLIGHT
BEGIN:STANDARD
TZOFFSETFROM:+0200
TZOFFSETTO:+0100
TZNAME:CET
DTSTART:20251026T010000
END:STANDARD
BEGIN:DAYLIGHT
TZOFFSETFROM:+0100
TZOFFSETTO:+0200
TZNAME:CEST
DTSTART:20260329T010000
END:DAYLIGHT
BEGIN:STANDARD
TZOFFSETFROM:+0200
TZOFFSETTO:+0100
TZNAME:CET
DTSTART:20261025T010000
END:STANDARD
BEGIN:DAYLIGHT
TZOFFSETFROM:+0100
TZOFFSETTO:+0200
TZNAME:CEST
DTSTART:20270328T010000
END:DAYLIGHT
BEGIN:STANDARD
TZOFFSETFROM:+0200
TZOFFSETTO:+0100
TZNAME:CET
DTSTART:20271031T010000
END:STANDARD
END:VTIMEZONE
BEGIN:VEVENT
DTSTART;TZID=Europe/Brussels:20260221T093000
DTEND;TZID=Europe/Brussels:20260221T173000
DTSTAMP:20260420T124646
CREATED:20260205T155307Z
LAST-MODIFIED:20260206T110627Z
UID:944-1771666200-1771695000@sawadibymarie.com
SUMMARY:Sons & Création
DESCRIPTION:Je vous propose une journée complète de création et de ressourcement autour du micro-macramé\, où le geste créatif est naturellement soutenu par le son\, la musique et les vibrationsTout au long de la journée\, vous êtes accompagné·e dans un espace doux et bienveillant\, propice au ralentissement\, à l’écoute et à la présence.Les sons et les vibrations viennent soutenir la concentration\, apaiser le mental et ouvrir un espace intérieur favorable à la créativité.Au programme :– Atelier de micro-macramé guidé\, accessible aux débutant·es comme aux personnes déjà initiées– Interventions musicales et vibratoires pour accompagner les différentes étapes de création– Temps d’ancrage\, de respiration et de recentrageUne expérience où l’on crée avec les mains… et avec ce qui se passe à l’intérieur.La musique et les vibrations font pleinement partie du processus : elles enrichissent l’expérience et transforment la journée en un véritable temps de retour à soi. \n\n\n\n\n\nRéservationL’inscription se fait par sms ou par e-mail.Un acompte de 20 € est demandé pour confirmer la réservation.Les infos de paiement (numéro de compte) sont communiquées par message après la demande d’inscription.Le solde est à régler sur place le jour de l’atelier.
URL:https://sawadibymarie.com/event/sons-creation/
LOCATION:Sawadi by Marie\, Voie Blanche 20\, Quévy\, 7040\, Belgium
ATTACH;FMTTYPE=image/jpeg:https://sawadibymarie.com/wp-content/uploads/2026/02/dd44e6c0-6a19-4b0e-beed-cf56d5a25901-e1770307013455.jpg
ORGANIZER;CN="Sawadi by Marie":MAILTO:contact@sawadibymarie.com
END:VEVENT
END:VCALENDAR